BEGIN:VCALENDAR
VERSION:2.0
PRODID:-//XSES Concept - ECPv5.0.2.1//NONSGML v1.0//EN
CALSCALE:GREGORIAN
METHOD:PUBLISH
X-WR-CALNAME:XSES Concept
X-ORIGINAL-URL:https://xses.fr
X-WR-CALDESC:Évènements pour XSES Concept
BEGIN:VTIMEZONE
TZID:Europe/Paris
BEGIN:DAYLIGHT
TZOFFSETFROM:+0100
TZOFFSETTO:+0200
TZNAME:CEST
DTSTART:20190331T010000
END:DAYLIGHT
BEGIN:STANDARD
TZOFFSETFROM:+0200
TZOFFSETTO:+0100
TZNAME:CET
DTSTART:20191027T010000
END:STANDARD
END:VTIMEZONE
BEGIN:VEVENT
DTSTART;TZID=Europe/Paris:20190914T230000
DTEND;TZID=Europe/Paris:20190915T050000
DTSTAMP:20260423T100046
CREATED:20190913T162711Z
LAST-MODIFIED:20190913T163125Z
UID:8180-1568502000-1568523600@xses.fr
SUMMARY:Latino Caliente
DESCRIPTION:? On monte le thermostat dans la salle du haut ! ?\nCe SAMEDI 14 SEPTEMBRE\, la Club Room passe en mode Latino Caliente avec PIRZ aux platines ! Fiesta Loca jusqu’à l’aube\, venez vous déhancher sur le dancefloor ! ? \n#Room2 (Club) : Ouverte tout public avec le son généraliste toute la nuit mixée par PIRZ ! ? \n#Room1 (Main) : Resident mix by Krykor & Lucas Sanchez ? \n____________________ \n? BILLETTERIE & CONSOMMATIONS ? \nEntrée avec 1 consommation : 15€\nEntrée sans consommation : 10€\n? Pass fille valable jusqu’à 1h \n? Entrée Bouteille :\n(vodka\, whisky\, rhum\, gin\, tequila\, Jägermeister\, Get27\, Malibu) \n1/2 Bouteille (35cl) 60€ pour 2 pers\nBouteille (70cl) 100€ pour 4 pers\nMagnum (150cl) 200€ pour 8 pers \n? Entrée Bouteille Premium :\n(Grey Goose\, Absolut100\, Jack Daniel’s\, Chivas\, Bacardi 8 ans\, Patron Silver\, Bombay Sapphire) \nBouteille Premium (70cl) 140€ pour 4 pers\nMagnum Premium (175cl) 240€ pour 8 pers\nJeroboham Premium (300cl) 560€ pour 15 pers\nGalon Premium (450cl) 800€ pour 20 pers\nMathusalem Premium (600cl) 990€ pour 25 pers \n? Entrée Champagne :\n(Piper\, Perrier Jouet) \nBouteille Champagne (75cl) 100€ pour 4 pers\nMagnum Champagne (150cl) 240€ pour 8 Pers \n? Entrée Champagne Premium :\n(Ruinart Brut/Blanc etc.) \nBouteille Champagne Premium (75cl) 140€ pour 3 pers\nMagnum Champagne Premium (150cl) 260€ pour 6 Pers \n*Tarifs préférentiels pour Xses Members (voir sur place)\n____________________ \n? VESTIAIRE (non obligatoire) \nLe Cintre : 2€\nLe Sac : 2€\n____________________ \n☎️ RÉSERVATIONS \nRéservation de votre Table par MP sur la page facebook de l’Xses ou SMS au 07.69.06.06.30\n____________________ \n? XSES COMPLEX \n20 minutes de Lyon\, 512 chemin de la Blancherie\, 69360 Solaize \nMain Room => Salle Electro (Room 1) \n> System son Nexo\n> DJ Guests internationaux\n> Terrasse / Fumoir \nClub Room => Salle 90’ 2000 généraliste (Room 2) \n> System Son Jbl\n> Fumoir\n____________________ \n? RÉSEAUX SOCIAUX \nFacebook : www.facebook.com/xsescomplex\nInstagram : www.instagram.com/xses_lyon\nSnapchat : www.snapchat.com/xses_lyon \nIdentifie tes photos à l’Xses avec le hashtag #BienvenueDanslXses \n____________________ \nÉtablissement Interdit aux mineurs.\nLa Direction se réserve le droit d’entrée. \nPièce d’identité en cours de validité obligatoire (Carte d’identité\, passeport\, permis de conduire\, carte vitale avec photo (photocopies et photos acceptés si de bonne qualité). \n
URL:https://xses.fr/event/latino-caliente/
LOCATION:Club Room\, 512 Chemin de la Blancherie\, Solaize\, 69360
CATEGORIES:Club Room,Latino
ATTACH;FMTTYPE=image/jpeg:https://xses.fr/wp-content/uploads/2019/09/latino-caliente.jpg
ORGANIZER;CN="XSES":MAILTO:contact@xses.fr
END:VEVENT
END:VCALENDAR