BEGIN:VCALENDAR
VERSION:2.0
PRODID:-//XSES Concept - ECPv5.0.2.1//NONSGML v1.0//EN
CALSCALE:GREGORIAN
METHOD:PUBLISH
X-WR-CALNAME:XSES Concept
X-ORIGINAL-URL:https://xses.fr
X-WR-CALDESC:Évènements pour XSES Concept
BEGIN:VTIMEZONE
TZID:Europe/Paris
BEGIN:DAYLIGHT
TZOFFSETFROM:+0100
TZOFFSETTO:+0200
TZNAME:CEST
DTSTART:20190331T010000
END:DAYLIGHT
BEGIN:STANDARD
TZOFFSETFROM:+0200
TZOFFSETTO:+0100
TZNAME:CET
DTSTART:20191027T010000
END:STANDARD
END:VTIMEZONE
BEGIN:VEVENT
DTSTART;TZID=Europe/Paris:20190727T223000
DTEND;TZID=Europe/Paris:20190728T050000
DTSTAMP:20260423T122513
CREATED:20190703T095439Z
LAST-MODIFIED:20190907T090343Z
UID:5786-1564266600-1564290000@xses.fr
SUMMARY:Xses Summer Session 2019
DESCRIPTION:Viens passer le début de l’été au Xses pour une Summer Session de Dingues ! ☀⛱ \nAu programme : \nTerrasse 1 : Bar à Cocktails & Snack Paillote ??\nEspace Lounge & Chill pour dégustation de Rosé\, Cocktails\, Restauration\, BBQ\, Glaces\, Granités et bien d’autres. ? \nTerrasse 2 : Animations Summer ??\nTerrain de pétanque\, Jeu de fléchettes\, Beer Pong\, Babyfoot\, Trampoline\, Pool & Jacuzzi\, Mousse … et pleins de surprises ! \nSur les mixes des Dj’s résidents : ? \nRoom 1 Electro-Hard Music : Jérémy Roberto\nRoom 2 Généraliste Music : PIRZ \nToutes les semaines une thématique différente pour des samedis animés et festifs ! \n
URL:https://xses.fr/event/xses-summer-session-2019-4/
LOCATION:Main Room\, 512 Chemin de la Blancherie\, Solaize\, 69360\, France
CATEGORIES:Artistic,Club Room,Electro,Eupho,Festival,Hardcore,Hardmusic,Latino,Main Room,Psytrance,XSES Complex
ATTACH;FMTTYPE=image/png:https://xses.fr/wp-content/uploads/2019/07/66749539_1619230378211755_4669322370710765568_o.png
ORGANIZER;CN="XSES":MAILTO:contact@xses.fr
END:VEVENT
END:VCALENDAR