BEGIN:VCALENDAR
VERSION:2.0
PRODID:-//XSES Concept - ECPv5.0.2.1//NONSGML v1.0//EN
CALSCALE:GREGORIAN
METHOD:PUBLISH
X-WR-CALNAME:XSES Concept
X-ORIGINAL-URL:https://xses.fr
X-WR-CALDESC:Évènements pour XSES Concept
BEGIN:VTIMEZONE
TZID:Europe/Paris
BEGIN:DAYLIGHT
TZOFFSETFROM:+0100
TZOFFSETTO:+0200
TZNAME:CEST
DTSTART:20190331T010000
END:DAYLIGHT
BEGIN:STANDARD
TZOFFSETFROM:+0200
TZOFFSETTO:+0100
TZNAME:CET
DTSTART:20191027T010000
END:STANDARD
END:VTIMEZONE
BEGIN:VEVENT
DTSTART;TZID=Europe/Paris:20190831T223000
DTEND;TZID=Europe/Paris:20190901T050000
DTSTAMP:20260425T015450
CREATED:20190729T110234Z
LAST-MODIFIED:20190729T115949Z
UID:6245-1567290600-1567314000@xses.fr
SUMMARY:La reprise !
DESCRIPTION:Réouverture apres les vacances ! \n
URL:https://xses.fr/event/6245/
LOCATION:Main Room\, 512 Chemin de la Blancherie\, Solaize\, 69360\, France
CATEGORIES:Electro,Festival,Hardcore,Hardmusic,Psytrance
ATTACH;FMTTYPE=image/png:https://xses.fr/wp-content/uploads/2019/07/fichier-test-event-01.png
ORGANIZER;CN="XSES":MAILTO:contact@xses.fr
END:VEVENT
END:VCALENDAR